BEGIN:VCALENDAR
PRODID:-//Veranstaltung//EN
VERSION:2.0
CALSCALE:GREGORIAN
BEGIN:VEVENT
DTSTART;VALUE=DATE-TIME:20250807T160000
DTEND;VALUE=DATE-TIME:20250807T235959
SUMMARY:Jüdisches Leben in Deutschland
LOCATION:
DESCRIPTION:
UID:
END:VEVENT
END:VCALENDAR