BEGIN:VCALENDAR
PRODID:-//Veranstaltung//EN
VERSION:2.0
CALSCALE:GREGORIAN
BEGIN:VEVENT
DTSTART;VALUE=DATE-TIME:20250623T000000
DTEND;VALUE=DATE-TIME:20250625T235959
SUMMARY:Germany after the election: A new chapter in Greek-German relations
LOCATION:
DESCRIPTION:
UID:
END:VEVENT
END:VCALENDAR