BEGIN:VCALENDAR
PRODID:-//Veranstaltung//EN
VERSION:2.0
CALSCALE:GREGORIAN
BEGIN:VEVENT
DTSTART;VALUE=DATE-TIME:20250927T000000
DTEND;VALUE=DATE-TIME:20250927T180000
SUMMARY:Erinnern statt vergessen!
LOCATION:
DESCRIPTION:Wir wollen an den NS und seine Gräueltaten erinnern. Deshalb werden wir eine eintägige Exkursion in das ehemalige KZ Natzweiler-Struthof im Elsass unternehmen. Fachkundig geführt durch Herrn Dr. Heinrich Schwendemann (Uni Freiburg) werden wir uns den geschichtsträchtigen Ort historisch erschließen. Die Anreise erfolgt im bequemen Reisebuch von Freiburg aus. Die Teilnahme ist kostenfrei.
UID:
END:VEVENT
END:VCALENDAR