BEGIN:VCALENDAR
PRODID:-//Veranstaltung//EN
VERSION:2.0
CALSCALE:GREGORIAN
BEGIN:VEVENT
DTSTART;VALUE=DATE-TIME:20250716T000000
DTEND;VALUE=DATE-TIME:20250930T235959
SUMMARY:Start der Legislativschule
LOCATION:
DESCRIPTION:Am Mittwoch, dem 16. Juli 2025, wurde offiziell die Schule für Gesetzgebungsarbeit eröffnet – ein Raum, der geschaffen wurde, um die technischen, strategischen und ethischen Fähigkeiten jener zu stärken, die heute die Verantwortung für die Gesetzgebung in Ecuador tragen.

Dieses ambitionierte Projekt ist Teil der Initiative Día 1 und wird von der Konrad-Adenauer-Stiftung (KAS), der Corporación Líderes Para Gobernar (CLPG) und der Universidad de las Américas (UDLA) geleitet.
UID:
END:VEVENT
END:VCALENDAR