BEGIN:VCALENDAR
PRODID:-//Veranstaltung//EN
VERSION:2.0
CALSCALE:GREGORIAN
BEGIN:VEVENT
DTSTART;VALUE=DATE-TIME:20250716T000000
DTEND;VALUE=DATE-TIME:20250930T235959
SUMMARY:Arranca la Escuela de Formación Legislativa
LOCATION:
DESCRIPTION:El miércoles 16 de julio de 2025 se inauguró oficialmente la Escuela de Formación Legislativa, un espacio creado para fortalecer las capacidades técnicas, estratégicas y éticas de quienes hoy tienen la responsabilidad de legislar en el Ecuador. Este ambicioso proyecto se enmarca en la iniciativa Día 1 y es liderado por la Fundación Konrad Adenauer (KAS), la Corporación Lideres Para Gobernar (CLPG), y la Universidad de las Américas (UDLA).
UID:
END:VEVENT
END:VCALENDAR