BEGIN:VCALENDAR
PRODID:-//Veranstaltung//EN
VERSION:2.0
CALSCALE:GREGORIAN
BEGIN:VEVENT
DTSTART;VALUE=DATE-TIME:20250702T000000
DTEND;VALUE=DATE-TIME:20251031T235959
SUMMARY:Operación 593
LOCATION:
DESCRIPTION:Con más de 125 jóvenes líderes de todo el país, Operación 593 inició su fase virtual con una serie de clases magistrales impartidas por destacados docentes y expertos nacionales.
Esta fase inicial marca el comienzo de una iniciativa nacional sin precedentes, que busca formar, activar y proyectar a las juventudes como protagonistas del desarrollo democrático, social y económico del Ecuador.
UID:
END:VEVENT
END:VCALENDAR