BEGIN:VCALENDAR
PRODID:-//Veranstaltung//EN
VERSION:2.0
CALSCALE:GREGORIAN
BEGIN:VEVENT
DTSTART;VALUE=DATE-TIME:20250820T090000
DTEND;VALUE=DATE-TIME:20250820T130000
SUMMARY:Demokratie on Tour - Stade
LOCATION:
DESCRIPTION:Am 20. Augst kommt der Demokratie-Bus der Konrad-Adenauer-Stiftung nach Stade.
UID:
END:VEVENT
END:VCALENDAR