BEGIN:VCALENDAR
PRODID:-//Veranstaltung//EN
VERSION:2.0
CALSCALE:GREGORIAN
BEGIN:VEVENT
DTSTART;VALUE=DATE-TIME:20250816T000000
DTEND;VALUE=DATE-TIME:20250817T235959
SUMMARY:Workshop: Leadership Skills & Persuasion for KAS Scholars
LOCATION:
DESCRIPTION:
UID:
END:VEVENT
END:VCALENDAR