BEGIN:VCALENDAR
PRODID:-//Veranstaltung//EN
VERSION:2.0
CALSCALE:GREGORIAN
BEGIN:VEVENT
DTSTART;VALUE=DATE-TIME:20250903T180000
DTEND;VALUE=DATE-TIME:20250903T204500
SUMMARY:Zeithistorische Filmreihe: An einem Tag im September
LOCATION:Berlin
DESCRIPTION:
UID:
END:VEVENT
END:VCALENDAR