BEGIN:VCALENDAR
PRODID:-//Veranstaltung//EN
VERSION:2.0
CALSCALE:GREGORIAN
BEGIN:VEVENT
DTSTART;VALUE=DATE-TIME:20250908T190000
DTEND;VALUE=DATE-TIME:20250908T210000
SUMMARY:"Haben wir in Deutschland einen antiextremistischen Konsens?“
LOCATION:Bremen
DESCRIPTION:
UID:
END:VEVENT
END:VCALENDAR