BEGIN:VCALENDAR
PRODID:-//Veranstaltung//EN
VERSION:2.0
CALSCALE:GREGORIAN
BEGIN:VEVENT
DTSTART;VALUE=DATE-TIME:20250818T000000
DTEND;VALUE=DATE-TIME:20250831T235959
SUMMARY:Bootcamp Escuela de Presidentes Ecuador: Política Intercultural
LOCATION:
DESCRIPTION:¿Eres joven y perteneces a un pueblo, nacionalidad o grupo étnico del Ecuador?
Esta es tu oportunidad para formarte, conectar y potenciar tu liderazgo.

📍 Bootcamp EDP – 2da Edición: Política Intercultural
📅 Riobamba – 2025
🗓 Postula hasta el 31 de agosto

Tres días de formación intensa junto a expertos, donde desarrollarás herramientas para la participación política, la gobernanza efectiva y el trabajo colectivo, con enfoque territorial e intercultural.

✨ Tu voz cuenta, tu liderazgo inspira.

🔗 Consulta las bases y postula aquí:
https://forms.gle/KzyoxMpVrajKoMX67
UID:
END:VEVENT
END:VCALENDAR