BEGIN:VCALENDAR
PRODID:-//Veranstaltung//EN
VERSION:2.0
CALSCALE:GREGORIAN
BEGIN:VEVENT
DTSTART;VALUE=DATE-TIME:20250902T000000
DTEND;VALUE=DATE-TIME:20250903T235959
SUMMARY:Climate in a Divided World: ASEAN Leadership for COP30 and Beyond
LOCATION:
DESCRIPTION:
UID:
END:VEVENT
END:VCALENDAR