BEGIN:VCALENDAR
PRODID:-//Veranstaltung//EN
VERSION:2.0
CALSCALE:GREGORIAN
BEGIN:VEVENT
DTSTART;VALUE=DATE-TIME:20250918T180000
DTEND;VALUE=DATE-TIME:20250918T193000
SUMMARY:„Arisierung“ – Raub, Profit und Nachwirkungen bis heute
LOCATION:Gießen
DESCRIPTION:Die sogenannte „Arisierung“ bezeichnete den staatlich organisierten Entzug jüdischen Eigentums im Nationalsozialismus, von dem ein breiter Teil der deutschen Gesellschaft profitierte. Der Vortrag beleuchtet ihre Mechanismen, konkrete Unternehmensbeispiele sowie die unzureichende Aufarbeitung nach 1945. Zudem wird die Frage gestellt, welche Spuren bis heute sichtbar sind und welche Bedeutung das Thema für unsere Gegenwart und Familiengeschichten hat.
UID:
END:VEVENT
END:VCALENDAR