BEGIN:VCALENDAR
PRODID:-//Veranstaltung//EN
VERSION:2.0
CALSCALE:GREGORIAN
BEGIN:VEVENT
DTSTART;VALUE=DATE-TIME:20250923T180000
DTEND;VALUE=DATE-TIME:20250923T193000
SUMMARY:Dorfliebe – Politik persönlich nehmen
LOCATION:
DESCRIPTION:Politik berührt uns immer und überall – es gibt mehr als genug Gründe sie persönlich zu nehmen. Erzählen Sie uns von dem, was Sie bewegt, was Ihre Dorfgemeinschaft ausmacht, aber auch welche Veränderung Sie sich von der Politik wünschen. Der nächste Halt der Dorfliebe-Tour ist dafür genau die richtige Gelegenheit!
UID:
END:VEVENT
END:VCALENDAR