BEGIN:VCALENDAR
PRODID:-//Veranstaltung//EN
VERSION:2.0
CALSCALE:GREGORIAN
BEGIN:VEVENT
DTSTART;VALUE=DATE-TIME:20250917T120000
DTEND;VALUE=DATE-TIME:20250919T203000
SUMMARY:Taller Nacional Para Mujeres Asambleístas
LOCATION:
DESCRIPTION:El Taller tiene como objetivo dotar de herramientas a las nuevas autoridades nacionales, para fortalecer el éxito de su gestión legislativa. Además de potenciar sus habilidades blandas y liderazgo político.
UID:
END:VEVENT
END:VCALENDAR