BEGIN:VCALENDAR
PRODID:-//Veranstaltung//EN
VERSION:2.0
CALSCALE:GREGORIAN
BEGIN:VEVENT
DTSTART;VALUE=DATE-TIME:20250911T160000
DTEND;VALUE=DATE-TIME:20250911T235959
SUMMARY:„Partners in Leadership“ – Das deutsch-amerikanische Verhältnis unter Helmut Kohl
LOCATION:Washington, DC
DESCRIPTION:Die deutsche Wiedervereinigung vor 35 Jahren war nur mit Hilfe der USA möglich. Eine Grundlage dafür war das Vertrauensverhältnis von Bundeskanzler Helmut Kohl zu den Präsidenten Ronald Reagan, George H. W. Bush und Bill Clinton. Wir halten Rückschau auf die Jahre 1989/90 und diskutieren die transatlantischen Beziehungen in der Ära Kohl, wobei auch bisher weniger beleuchtete Aspekte seiner Regierungszeit zur Sprache kommen.
UID:
END:VEVENT
END:VCALENDAR