BEGIN:VCALENDAR
PRODID:-//Veranstaltung//EN
VERSION:2.0
CALSCALE:GREGORIAN
BEGIN:VEVENT
DTSTART;VALUE=DATE-TIME:20251001T000000
DTEND;VALUE=DATE-TIME:20251212T235959
SUMMARY:"Derechos Económicos y Sociales: Estado, Mercado y Derechos Humanos"
LOCATION:
DESCRIPTION:¿Te interesa entender la relación entre economía, derechos humanos y el rol del Estado?

La KAS en Venezuela en alianza con la UNIMET anuncian el proceso de postulación al curso "Derechos económicos y sociales: Estado, Mercado y Derechos Humanos".
UID:
END:VEVENT
END:VCALENDAR