BEGIN:VCALENDAR
PRODID:-//Veranstaltung//EN
VERSION:2.0
CALSCALE:GREGORIAN
BEGIN:VEVENT
DTSTART;VALUE=DATE-TIME:20250701T000000
DTEND;VALUE=DATE-TIME:20250704T235959
SUMMARY:AWENE 2025
LOCATION:
DESCRIPTION:Vom 1. bis 4. Juli 2025 war die Insel Santa Cruz das Zentrum der Sonderausgabe des AWENE-Führungsprogramms für Frauen, das von der Konrad-Adenauer-Stiftung (KAS) Ecuador in Zusammenarbeit mit der Fundación Ciclo Rosa EC und mit strategischer Unterstützung der Stadtverwaltung von Santa Cruz durchgeführt wurde.
UID:
END:VEVENT
END:VCALENDAR