BEGIN:VCALENDAR
PRODID:-//Veranstaltung//EN
VERSION:2.0
CALSCALE:GREGORIAN
BEGIN:VEVENT
DTSTART;VALUE=DATE-TIME:20250909T090000
DTEND;VALUE=DATE-TIME:20250911T180000
SUMMARY:Taller: Eduación cívica electoral para elecciones libres, transparentes y pacificas en Cochabamba
LOCATION:
DESCRIPTION:En Alianza con la Fundación Construir y la Red Observa Bolivia, del 09 al 11 de septiembre, se desarrollarán talleres sobre educacion civica electotal en las poblaciones de Quillacollo, Sacaba y Punta, del departamento de Cochabamba - Bolivia. El objetivo de los talleres es que los participantes comprendan la importancia del acceso a la información en fuentes confiables para tener un voto informado, y el correcto funcionamiento de unas elecciones transparente y libres. Todo esto en el marco de la segunda vuelta electoral que se desarrollará en Bolivia el proximo 19 de octubre.  

El curso será Gratuito y se entregarán certificados de participación
UID:
END:VEVENT
END:VCALENDAR