BEGIN:VCALENDAR
PRODID:-//Veranstaltung//EN
VERSION:2.0
CALSCALE:GREGORIAN
BEGIN:VEVENT
DTSTART;VALUE=DATE-TIME:20251023T180000
DTEND;VALUE=DATE-TIME:20251023T210000
SUMMARY:Fundraising leicht gemacht!
LOCATION:
DESCRIPTION:Fundraising ist Pflichtprogramm für Verein und Ehrenamt, und doch muss es keine trockene Angelegenheit sein und kann sogar Spaß machen! In diesem Workshop erfahren Sie, wie Sie erfolgreich auf Ihr Anliegen aufmerksam machen und Fördermittel gewinnen können.
UID:
END:VEVENT
END:VCALENDAR