BEGIN:VCALENDAR
PRODID:-//Veranstaltung//EN
VERSION:2.0
CALSCALE:GREGORIAN
BEGIN:VEVENT
DTSTART;VALUE=DATE-TIME:20250918T160000
DTEND;VALUE=DATE-TIME:20250918T170000
SUMMARY:Finden Politik und Gesellschaft in Frankreich einen Weg aus der Krise?
LOCATION:
DESCRIPTION:Präsident Macron hat schnell reagiert und einen neuen Regierungschef damit beauftragt, Frankreich aus der Krise zu führen. Wie kann ihm das gelingen?
UID:
END:VEVENT
END:VCALENDAR