BEGIN:VCALENDAR
PRODID:-//Veranstaltung//EN
VERSION:2.0
CALSCALE:GREGORIAN
BEGIN:VEVENT
DTSTART;VALUE=DATE-TIME:20251024T000000
DTEND;VALUE=DATE-TIME:20251114T235959
SUMMARY:Internationale Zusammenarbeit: Mechanismen, Zugang und Akteure
LOCATION:
DESCRIPTION:Die Konrad-Adenauer-Stiftung (KAS) lädt Sie gemeinsam mit der Universidad Central de Venezuela (UCV) und der Universidad Metropolitana (UNIMET) herzlich zur Teilnahme am Seminar „Internationale Zusammenarbeit: Mechanismen, Zugang und Akteure”, das vom 24. Oktober bis zum 14. November 2025 in hybrider Form mit einer Gesamtdauer von 15 akademischen Stunden stattfindet.
UID:
END:VEVENT
END:VCALENDAR