BEGIN:VCALENDAR
PRODID:-//Veranstaltung//EN
VERSION:2.0
CALSCALE:GREGORIAN
BEGIN:VEVENT
DTSTART;VALUE=DATE-TIME:20251024T000000
DTEND;VALUE=DATE-TIME:20251114T235959
SUMMARY:Cooperación Internacional: Mecanismos, Acceso y Actores
LOCATION:
DESCRIPTION:La Fundación Konrad Adenauer  (KAS), junto con la Universidad Central de Venezuela (UCV) y la Universidad Metropolitana (UNIMET), tienen el agrado de invitarlos a participar en el Seminario: “Cooperación Internacional: Mecanismos, Acceso y Actores”, que se llevará a cabo entre el 24 de octubre y el 14 de noviembre de 2025, en modalidad híbrida, con una duración total de 15 horas académicas.
UID:
END:VEVENT
END:VCALENDAR