BEGIN:VCALENDAR
PRODID:-//Veranstaltung//EN
VERSION:2.0
CALSCALE:GREGORIAN
BEGIN:VEVENT
DTSTART;VALUE=DATE-TIME:20250910T083000
DTEND;VALUE=DATE-TIME:20250910T140000
SUMMARY:Roundtable on TVET in Sarawak
LOCATION:
DESCRIPTION:Konrad-Adenauer-Stiftung Malaysia alongside with our regional collaboration partner, the Sarawak Development Institute (SDI), is jointly bringing together this initiative to explore the role of Technical and Vocational Education and Training (TVET) in strengthening Sarawak's human capital development. A Dialogue among various stakeholders from private and public sector as well Training Institutes.
UID:
END:VEVENT
END:VCALENDAR