BEGIN:VCALENDAR
PRODID:-//Veranstaltung//EN
VERSION:2.0
CALSCALE:GREGORIAN
BEGIN:VEVENT
DTSTART;VALUE=DATE-TIME:20251014T000000
DTEND;VALUE=DATE-TIME:20251016T235959
SUMMARY:Media Freedom Festival 2025 in Johannesburg, South Africa
LOCATION:
DESCRIPTION:The three-day festival will engage journalists, media practitioners, legal minds and civil society on pertinent issues related to media freedom, the impact of artificial intelligence on journalism and the erosion of public trust.
UID:
END:VEVENT
END:VCALENDAR