BEGIN:VCALENDAR
PRODID:-//Veranstaltung//EN
VERSION:2.0
CALSCALE:GREGORIAN
BEGIN:VEVENT
DTSTART;VALUE=DATE-TIME:20251015T000000
DTEND;VALUE=DATE-TIME:20251015T235959
SUMMARY:First Reporter Slam South Africa in Johannesburg
LOCATION:
DESCRIPTION:KAS Media Africa and Media Monitoring Africa are presenting the first Reporter Slam South Africa on 15 October 2025 as part of the Media Freedom Festival 2025. This time, journalists from South Africa and Germany will present their courageous work.
UID:
END:VEVENT
END:VCALENDAR