BEGIN:VCALENDAR
PRODID:-//Veranstaltung//EN
VERSION:2.0
CALSCALE:GREGORIAN
BEGIN:VEVENT
DTSTART;VALUE=DATE-TIME:20251102T180000
DTEND;VALUE=DATE-TIME:20251102T193000
SUMMARY:Von der Front ins Abseits – Deutsche Juden zwischen Patriotismus und Ausgrenzung
LOCATION:Gießen
DESCRIPTION:Die Veranstaltung beleuchtet das Schicksal deutscher Juden und Jüdinnen, die im Ersten Weltkrieg patriotisch für ihr Vaterland eintraten, später jedoch entrechtet und verfolgt wurden. Biografien bekannter Persönlichkeiten wie Walter Rathenau sowie unbekannter Frontsoldaten verdeutlichen den dramatischen Bruch zwischen Anerkennung und Ausgrenzung. Musikalisch begleitet wird der Abend von einem Trio (Klavier, Oboe und Violine) mit Werken jüdischer Komponisten aus dem deutschsprachigen Raum.
UID:
END:VEVENT
END:VCALENDAR