BEGIN:VCALENDAR
PRODID:-//Veranstaltung//EN
VERSION:2.0
CALSCALE:GREGORIAN
BEGIN:VEVENT
DTSTART;VALUE=DATE-TIME:20251016T180000
DTEND;VALUE=DATE-TIME:20251016T193000
SUMMARY:Bolivien und das Ende des Sozialismus
LOCATION:
DESCRIPTION:In unserer 52. Ausgabe des Live-Formats der #HessenKAS blicken wir gemeinsam nach Bolivien und die anstehende Stichwahl.
UID:
END:VEVENT
END:VCALENDAR