BEGIN:VCALENDAR
PRODID:-//Veranstaltung//EN
VERSION:2.0
CALSCALE:GREGORIAN
BEGIN:VEVENT
DTSTART;VALUE=DATE-TIME:20251117T090000
DTEND;VALUE=DATE-TIME:20251117T160000
SUMMARY:Anti-demokratische Kräfte im digitalen Raum –  erkennen, hinterfragen und kontern
LOCATION:
DESCRIPTION:
UID:
END:VEVENT
END:VCALENDAR