BEGIN:VCALENDAR
PRODID:-//Veranstaltung//EN
VERSION:2.0
CALSCALE:GREGORIAN
BEGIN:VEVENT
DTSTART;VALUE=DATE-TIME:20251117T180000
DTEND;VALUE=DATE-TIME:20251117T193000
SUMMARY:Wenn Hass und Schweigen laut werden – Antisemitismus in Hessen
LOCATION:
DESCRIPTION:Antisemitismus ist eine der ältesten und zugleich aktuellsten Formen von Menschenfeindlichkeit. Auch in Hessen sind jüdische Mitbürgerinnen und Mitbürger zunehmend mit Vorurteilen, Anfeindungen und Gewalt konfrontiert. Die Veranstaltung beleuchtet die Ursachen und Erscheinungsformen von Antisemitismus, zeigt seine gesellschaftlichen Auswirkungen und diskutiert, wie Politik, Zivilgesellschaft und jeder Einzelne wirksam gegensteuern können.
UID:
END:VEVENT
END:VCALENDAR