BEGIN:VCALENDAR
PRODID:-//Veranstaltung//EN
VERSION:2.0
CALSCALE:GREGORIAN
BEGIN:VEVENT
DTSTART;VALUE=DATE-TIME:20260313T160000
DTEND;VALUE=DATE-TIME:20260314T140000
SUMMARY:Resilienz stärken in der Ära der „Zeitenwende“
LOCATION:
DESCRIPTION:Krisen, hybride Bedrohungen und neue sicherheitspolitische Herausforderungen verlangen neue Antworten – auch auf kommunaler Ebene. Unser Seminar, das wir mit der Gesellschaft für Sicherheitspolitik e. V. in Düsseldorf anbieten, bringt Expertinnen und Experten aus Politik, dem Deutschen Roten Kreuz und Sicherheitsberatung zusammen. Mit Impulsen, Übungen und Austausch zeigen wir, wie Städte und Gemeinden widerstandsfähiger werden können. Seien Sie dabei und gestalten Sie aktiv mit!
UID:
END:VEVENT
END:VCALENDAR