BEGIN:VCALENDAR
PRODID:-//Veranstaltung//EN
VERSION:2.0
CALSCALE:GREGORIAN
BEGIN:VEVENT
DTSTART;VALUE=DATE-TIME:20251105T000000
DTEND;VALUE=DATE-TIME:20251108T235959
SUMMARY:Cadenabbia Leadership Forum for Public Service Media from Africa and Europe 2025, Cadenabbia, Italy
LOCATION:
DESCRIPTION:The Forum, being the first of its kind between Africa and Europe, is scheduled from 5th to 8th of November 2025 in Italy at the former summer residence of the first German Chancellor, Konrad Adenauer
UID:
END:VEVENT
END:VCALENDAR