BEGIN:VCALENDAR
PRODID:-//Veranstaltung//EN
VERSION:2.0
CALSCALE:GREGORIAN
BEGIN:VEVENT
DTSTART;VALUE=DATE-TIME:20251201T000000
DTEND;VALUE=DATE-TIME:20251204T235959
SUMMARY:Managing Conflict in Today’s Newsroom Training 2025 - Nairobi, Kenya
LOCATION:
DESCRIPTION:KAS Media Africa collaborate to make the four-day training course for newsroom managers, starting on 1 December, possible.
UID:
END:VEVENT
END:VCALENDAR