BEGIN:VCALENDAR
PRODID:-//Veranstaltung//EN
VERSION:2.0
CALSCALE:GREGORIAN
BEGIN:VEVENT
DTSTART;VALUE=DATE-TIME:20251105T150000
DTEND;VALUE=DATE-TIME:20251105T193000
SUMMARY:Creating and Securing Growth
LOCATION:Berlin
DESCRIPTION:The Konrad Adenauer Foundation and the European Initiative for Energy Security (EIES) are co-hosting an expert conference. Leading voices from politics, business, and academia will discuss key questions about the future of Germany as an industrial hub, emphasising challenges and opportunities of raw materials policy, resilient supply chains, and secure energy infrastructures.
UID:
END:VEVENT
END:VCALENDAR