BEGIN:VCALENDAR
PRODID:-//Veranstaltung//EN
VERSION:2.0
CALSCALE:GREGORIAN
BEGIN:VEVENT
DTSTART;VALUE=DATE-TIME:20251023T080000
DTEND;VALUE=DATE-TIME:20251025T190000
SUMMARY:Campus de Jovenes Líderes PPI 2025
LOCATION:Bogotá D.C.
DESCRIPTION:🎉El Programa Regional de Participación Política Indígena (PPI) te invita a formar parte del "Campus de jóvenes lideres PPI sobre Liderazgo intercultural".

🤓 ¿Cuál es la metodología? :
▪️Dos talleres online por ZOOM
▪️Un viaje presencial de tres días a la ciudad de Bogotá – Colombia.

 📌Herramientas de liderazgo político y oratoria
 📌Democracia participativa
📌 Dialogo intercultural

El programa ofrece la oportunidad de conectar con expertos a nivel internacional y ampliar tu red de contactos.

🤔 ¿Quién puede postular?
Jóvenes de toda Latinoamérica entre 20 y 35 años, que busquen profundizar sus habilidades de liderazgo y diálogo en su formación política partidaria y dentro de sus organizaciones.

🤔 ¿Cuándo es el Campus?
 📍Del 23 al 25 de Octubre en Bogotá - Colombia. 🇨🇴

 📢Te invitamos a postular en www.kas.de/ppi o haciendo click en este link: https://forms.gle/5WfpBGqFSXfR15ubA

⚠️ Las postulaciones cierran el 30 de septiembre a las 23:00 hora de Bolivia
UID:
END:VEVENT
END:VCALENDAR