BEGIN:VCALENDAR
PRODID:-//Veranstaltung//EN
VERSION:2.0
CALSCALE:GREGORIAN
BEGIN:VEVENT
DTSTART;VALUE=DATE-TIME:20251028T170000
DTEND;VALUE=DATE-TIME:20251028T180000
SUMMARY:Städtebau und Demokratie. Für mehr Miteinander
LOCATION:
DESCRIPTION:Bei diesem digitalen Treffen diskutieren wir über die Zusammenhänge von Städtebau und Demokratie. Wir richten unseren Blick auf das Miteinander in unseren Kommunen und hinterfragen, inwiefern Städtebau dazu beitragen kann, Begegnungen und sozialen Zusammenhalt zu fördern.
UID:
END:VEVENT
END:VCALENDAR