BEGIN:VCALENDAR
PRODID:-//Veranstaltung//EN
VERSION:2.0
CALSCALE:GREGORIAN
BEGIN:VEVENT
DTSTART;VALUE=DATE-TIME:20251028T000000
DTEND;VALUE=DATE-TIME:20251028T160000
SUMMARY:4th KAS Australia and the Pacific Security Conference
LOCATION:Barton, Canberra, Australian Capital Territory
DESCRIPTION:The Konrad Adenauer Foundation Regional Programme Australia and the Pacific is delighted to hold its 4th KAS Australia Security Conference on German-Indo-Pacific common security concerns to be held in Canberra on 28 October 2025. Followed by a closed-door roundtable event on the morning of 29 October 2025.
UID:
END:VEVENT
END:VCALENDAR