BEGIN:VCALENDAR
PRODID:-//Veranstaltung//EN
VERSION:2.0
CALSCALE:GREGORIAN
BEGIN:VEVENT
DTSTART;VALUE=DATE-TIME:20250930T000000
DTEND;VALUE=DATE-TIME:20250930T235959
SUMMARY:Deutsch-Ungarisches Barometer 2025
LOCATION:Budapest
DESCRIPTION:
UID:
END:VEVENT
END:VCALENDAR