BEGIN:VCALENDAR
PRODID:-//Veranstaltung//EN
VERSION:2.0
CALSCALE:GREGORIAN
BEGIN:VEVENT
DTSTART;VALUE=DATE-TIME:20251119T190000
DTEND;VALUE=DATE-TIME:20251119T203000
SUMMARY:Die Meinungsmacht der Online-Medien: Wie können wir Manipulation erkennen und regulieren?
LOCATION:Krefeld
DESCRIPTION:Desinformation und Manipulation sind keine neuen Phänomene - doch ihre technische Raffinesse hat in den letzten Jahren eine neue Dimension erreicht.
UID:
END:VEVENT
END:VCALENDAR