BEGIN:VCALENDAR
PRODID:-//Veranstaltung//EN
VERSION:2.0
CALSCALE:GREGORIAN
BEGIN:VEVENT
DTSTART;VALUE=DATE-TIME:20260504T180000
DTEND;VALUE=DATE-TIME:20260507T210000
SUMMARY:Social Media intensiv!  Aufbauworkshop 4., 5. und 7. Mai 2026
LOCATION:
DESCRIPTION:
UID:
END:VEVENT
END:VCALENDAR