BEGIN:VCALENDAR
PRODID:-//Veranstaltung//EN
VERSION:2.0
CALSCALE:GREGORIAN
BEGIN:VEVENT
DTSTART;VALUE=DATE-TIME:20251023T000000
DTEND;VALUE=DATE-TIME:20251025T235959
SUMMARY:IPI World Congress 2025 - South East Europe joins the global conversation
LOCATION:
DESCRIPTION:
UID:
END:VEVENT
END:VCALENDAR