BEGIN:VCALENDAR
PRODID:-//Veranstaltung//EN
VERSION:2.0
CALSCALE:GREGORIAN
BEGIN:VEVENT
DTSTART;VALUE=DATE-TIME:20251024T090000
DTEND;VALUE=DATE-TIME:20251024T120000
SUMMARY:ทบทวนและต่อยอดทฤษฎีและนโยบายต่างประเทศของไทย ต่อยุทธศาสตร์อินโด-แปซิฟิกจากมุมมองส่วนภูมิภาค
LOCATION:กรุงเทพมหานคร
DESCRIPTION:การดำเนินนโยบายต่างประเทศนั้นเน้นการมองจากศูนย์กลางที่ใกล้ชิดของผู้กำหนดนโยบายเป็นหลัก แต่ในการเปลี่ยนแปลงของระบบเศรษฐกิจ การเมือง และความมั่นคงระหว่างประเทศ การที่ประเทศมหาอำนาจต่างพยายามเข้ามาแสวงหาบทบาทนำในภูมิภาคเอเชียตะวันออกเฉียงใต้ทำให้ความเข้มข้นและความรุนแรงของการแข่งขันเผยตัวออกมาในหลายมิติและหลายระดับ หากใช้มุมมองจากส่วนกลางแล้ว การพยายามทำความเข้าใจเป้าหมายและผลประโยชน์ที่มหาอำนาจต้องการนำไปสู่การพยายามแสวงหาวิธีการหรือนโยบายต่างประเทศที่จะตอบสนองต่อปรากฏการณ์นั้นๆ และยังคงต้องรักษาผลประโยชน์และเกียรติภูมิของประเทศไทยเอาไว้ ในขณะเดียวกัน วิธีการมองและแสวงหาแนวนโยบายและวิธีการตั้งอยู่บนชุดความรู้ด้านความสัมพันธ์ระหว่างประเทศที่เน้นรัฐเป็นศูนย์กลาง และเป้าหมายของชุดคำถามที่มากับทฤษฎีเหล่านั้นต่างก็พยายามตอบว่ารัฐควรมีนโยบายต่างประเทศอย่างไร
UID:
END:VEVENT
END:VCALENDAR