BEGIN:VCALENDAR
PRODID:-//Veranstaltung//EN
VERSION:2.0
CALSCALE:GREGORIAN
BEGIN:VEVENT
DTSTART;VALUE=DATE-TIME:20251105T180000
DTEND;VALUE=DATE-TIME:20251105T210000
SUMMARY:Spur der Steine
LOCATION:Freiburg i. Br.
DESCRIPTION:Mit "Spur der Steine" zeigen wir anlässlich des 36. Jahrestags des Mauerfalls einen sogenannten "Kellerfilm". Gedreht 1966 lief er nur kurz in den Kinos der DDR bevor er wegen "antisozialistischer Tendenzen" verboten wurde und in den Kellern der DEFA verschwand.
UID:
END:VEVENT
END:VCALENDAR