BEGIN:VCALENDAR
PRODID:-//Veranstaltung//EN
VERSION:2.0
CALSCALE:GREGORIAN
BEGIN:VEVENT
DTSTART;VALUE=DATE-TIME:20251205T150000
DTEND;VALUE=DATE-TIME:20251206T170000
SUMMARY:Trump 2.0
LOCATION:
DESCRIPTION:Wie steht es um die Vereinigten Staaten 11 Monate in der zweiten Amtszeit von Donald Trump? Was hat sich verändert im vergangenen Jahr und welche Prognosen können wir wagen? Zusammen wollen wir eine erste Bilanz ziehen.
UID:
END:VEVENT
END:VCALENDAR