BEGIN:VCALENDAR
PRODID:-//Veranstaltung//EN
VERSION:2.0
CALSCALE:GREGORIAN
BEGIN:VEVENT
DTSTART;VALUE=DATE-TIME:20251009T000000
DTEND;VALUE=DATE-TIME:20251010T235959
SUMMARY:The 10th Biennial Conference of the Asian Society of International Law
LOCATION:
DESCRIPTION:The Biennial Conference serves as a global forum for experts, scholars, and practitioners to engage in meaningful dialogue on critical issues in international law. The 2025 edition aims to foster intellectual exchange while spotlighting Asia’s significant contributions to the evolution of international legal norms.
UID:
END:VEVENT
END:VCALENDAR