BEGIN:VCALENDAR
PRODID:-//Veranstaltung//EN
VERSION:2.0
CALSCALE:GREGORIAN
BEGIN:VEVENT
DTSTART;VALUE=DATE-TIME:20251105T093000
DTEND;VALUE=DATE-TIME:20251105T153000
SUMMARY:"Nordic Security in a Changing European Context"
LOCATION:Stockholm
DESCRIPTION:As Europe faces a rapidly evolving security environment – one that is shaped by renewed geopolitical tensions, hybrid threats, energy insecurity, and the ongoing repercussions of Russia’s war in Ukraine, among others – there is an urgent need to strengthen collective responses and strategic resilience. In this context, the Nordic countries play a pivotal role in safeguarding Europe’s Northern boundaries, including by contributing to NATO’s deterrence in the North and by occupying a crucial role in the broader European defence architecture.

This first Konrad-Adenauer-Stiftung Nordic Countries´ Autumn Conference aims to inspire dialogue, foster new partnerships, and explore ways to strengthen European security. We will convene politicians, leading experts, policymakers and security analysts to examine Europe’s most pressing security challenges. With a focus on the Nordic region, the conference will discuss how to improve regional cooperation, strengthen strategic foresight, and find effective ways to enhance security. The conference will also dive deeper into how Germany can contribute to shaping and supporting a comprehensive security strategy that integrates both Nordic and broader European perspectives.
UID:
END:VEVENT
END:VCALENDAR