BEGIN:VCALENDAR
PRODID:-//Veranstaltung//EN
VERSION:2.0
CALSCALE:GREGORIAN
BEGIN:VEVENT
DTSTART;VALUE=DATE-TIME:20251204T083000
DTEND;VALUE=DATE-TIME:20251204T193000
SUMMARY:Jüdisches und muslimisches Gemeindeleben in Straßburg
LOCATION:
DESCRIPTION:Bei dieser Exkursion nach Straßburg steht das religiöse Leben der Stadt im Mittelpunkt. Bei den Besuchen der Grande Mosquée de Strasbourg und der Synagogue de la Paix erleben Sie die religiöse Vielfalt der Stadt, die durch große muslimische und jüdische Gemeinden geprägt ist. Abschließend besteht die Möglichkeit, das Münster und den Weihnachtsmarkt zu besuchen.
UID:
END:VEVENT
END:VCALENDAR