BEGIN:VCALENDAR
PRODID:-//Veranstaltung//EN
VERSION:2.0
CALSCALE:GREGORIAN
BEGIN:VEVENT
DTSTART;VALUE=DATE-TIME:20251014T133000
DTEND;VALUE=DATE-TIME:20251014T180000
SUMMARY:Презентація аналітичного звіту "Освіта на тимчасово окупованій території України. Політичний аспект"
LOCATION:
DESCRIPTION:Цей аналітичний звіт спільно підготовлено Східною правозахисною групою та Інститутом стратегічних досліджень і безпеки за підтримки Представництва Фонду Конрада Аденауера в Україні. У ньому систематизовано інформацію про трансформацію системи освіти на тимчасово окупованих територіях України, починаючи з 2014 року, з акцентом на мілітаризацію, ідеологічний вплив та релігійне обґрунтування окупаційної політики. Дослідження ґрунтується на перевірених відкритих джерелах, навчальних матеріалах, нормативних документах, а також на свідченнях очевидців та інформаторів, які перебувають на тимчасово окупованих територіях. Аналітики зафіксували факти витіснення української ідентичності, впровадження обов'язкових військових дисциплін до шкіл, створення кадетських та козацьких корпусів, а також використання Російської православної церкви Московського патріархату з метою формування послуху, агресивного мислення та культу насильства серед молоді. Окрема увага у звіті приділена механізму формування образу ворога — України, країн ЄС, США та НАТО як «екзистенційної загрози», з якою «потрібно боротися». Ці ідеї системно впроваджуються через шкільні програми, виховні заходи та позашкільні військово-патріотичні клуби. Метою дослідження є фіксація порушень прав дитини та норм міжнародного гуманітарного права, демонстрація ризиків для майбутньої реінтеграції системи освіти, а також створення доказової бази для притягнення до відповідальності осіб, причетних до ідеологічного та військового впливу на дітей в умовах окупації.
UID:
END:VEVENT
END:VCALENDAR