BEGIN:VCALENDAR
PRODID:-//Veranstaltung//EN
VERSION:2.0
CALSCALE:GREGORIAN
BEGIN:VEVENT
DTSTART;VALUE=DATE-TIME:20251115T103000
DTEND;VALUE=DATE-TIME:20251115T130000
SUMMARY:Matinee zu 80 Jahren Befreiung des KZ Buchenwald
LOCATION:Paris
DESCRIPTION:Die Konrad-Adenauer-Stiftung Frankreich und das Goethe-Institut Paris laden im Gedenken an 80 Jahre Befreiung des KZ-Buchenwald und anlässlich der internationalen Messe für Fotografie „Paris Photo“ zu einer Fotobuch Matinee ein.
UID:
END:VEVENT
END:VCALENDAR