BEGIN:VCALENDAR
PRODID:-//Veranstaltung//EN
VERSION:2.0
CALSCALE:GREGORIAN
BEGIN:VEVENT
DTSTART;VALUE=DATE-TIME:20251115T103000
DTEND;VALUE=DATE-TIME:20251115T130000
SUMMARY:Matinée pour les 80 ans de la libération du camp de concentration Buchenwald
LOCATION:Paris
DESCRIPTION:La Fondation Konrad-Adenauer France et le Goethe-Institut de Paris invitent, à l’occasion du 80ᵉ anniversaire de la libération du camp de concentration de Buchenwald et de la foire internationale de la photographie « Paris Photo », à une matinée consacrée au livre photo.
UID:
END:VEVENT
END:VCALENDAR